BEGIN:VCALENDAR
VERSION:2.0
PRODID:-//aac-europe - ECPv6.0.6.2//NONSGML v1.0//EN
CALSCALE:GREGORIAN
METHOD:PUBLISH
X-ORIGINAL-URL:https://aac-europe.org/es/
X-WR-CALDESC:Eventos para aac-europe
REFRESH-INTERVAL;VALUE=DURATION:PT1H
X-Robots-Tag:noindex
X-PUBLISHED-TTL:PT1H
BEGIN:VTIMEZONE
TZID:Europe/Paris
BEGIN:DAYLIGHT
TZOFFSETFROM:+0100
TZOFFSETTO:+0200
TZNAME:CEST
DTSTART:20220327T010000
END:DAYLIGHT
BEGIN:STANDARD
TZOFFSETFROM:+0200
TZOFFSETTO:+0100
TZNAME:CET
DTSTART:20221030T010000
END:STANDARD
END:VTIMEZONE
BEGIN:VEVENT
DTSTART;TZID=Europe/Paris:20220208T090000
DTEND;TZID=Europe/Paris:20220209T170000
DTSTAMP:20260425T120116
CREATED:20230127T162721Z
LAST-MODIFIED:20230127T162721Z
UID:10000022-1644310800-1644426000@aac-europe.org
SUMMARY:Working Groups meetings
DESCRIPTION:February 8: \nWG2 – Shellfish: 9:00-12:00 \nWG3 – Horizontal matters: 14:00-17:00 \n  \nFebruary 9: \nWG3 – Horizontal matters: 09:00-12:00 \nWG1 – Finfish: 14:00-17:00 \n  \nIf you’d like to join as an observer\, please contact the Secretariat at secretariat@aac-europe.org
URL:https://aac-europe.org/event/working-groups-meetings-6/
LOCATION:Webinar – Improving fish welfare with the “Code of good practices on fish welfare and fish welfare indicators”
END:VEVENT
END:VCALENDAR