BEGIN:VCALENDAR
VERSION:2.0
PRODID:-//aac-europe - ECPv6.0.6.2//NONSGML v1.0//EN
CALSCALE:GREGORIAN
METHOD:PUBLISH
X-ORIGINAL-URL:https://aac-europe.org/es/
X-WR-CALDESC:Eventos para aac-europe
REFRESH-INTERVAL;VALUE=DURATION:PT1H
X-Robots-Tag:noindex
X-PUBLISHED-TTL:PT1H
BEGIN:VTIMEZONE
TZID:Europe/Paris
BEGIN:DAYLIGHT
TZOFFSETFROM:+0100
TZOFFSETTO:+0200
TZNAME:CEST
DTSTART:20220327T010000
END:DAYLIGHT
BEGIN:STANDARD
TZOFFSETFROM:+0200
TZOFFSETTO:+0100
TZNAME:CET
DTSTART:20221030T010000
END:STANDARD
BEGIN:DAYLIGHT
TZOFFSETFROM:+0100
TZOFFSETTO:+0200
TZNAME:CEST
DTSTART:20230326T010000
END:DAYLIGHT
BEGIN:STANDARD
TZOFFSETFROM:+0200
TZOFFSETTO:+0100
TZNAME:CET
DTSTART:20231029T010000
END:STANDARD
END:VTIMEZONE
BEGIN:VEVENT
DTSTART;TZID=Europe/Paris:20220621T000000
DTEND;TZID=Europe/Paris:20230127T162130
DTSTAMP:20260423T145025
CREATED:20230127T162129Z
LAST-MODIFIED:20230127T162129Z
UID:10000019-1655769600-1674836490@aac-europe.org
SUMMARY:EATiP General Assembly
DESCRIPTION:Presentation on «Research and Innovation in the AAC’s work» by the AAC Chair\, Javier Ojeda\, during the General Assembly of EATiP.
URL:https://aac-europe.org/event/eatip-general-assembly/
LOCATION:Webinar – Improving fish welfare with the “Code of good practices on fish welfare and fish welfare indicators”
END:VEVENT
BEGIN:VEVENT
DTSTART;TZID=Europe/Paris:20220707T140000
DTEND;TZID=Europe/Paris:20220707T153000
DTSTAMP:20260423T145026
CREATED:20230127T162018Z
LAST-MODIFIED:20230130T152729Z
UID:10000018-1657202400-1657207800@aac-europe.org
SUMMARY:DG MARE - AAC EMFAF Seminar
DESCRIPTION:
URL:https://aac-europe.org/event/dg-mare-aac-emfaf-seminar/
LOCATION:Webinar – Improving fish welfare with the “Code of good practices on fish welfare and fish welfare indicators”
END:VEVENT
BEGIN:VEVENT
DTSTART;TZID=Europe/Paris:20220712T100000
DTEND;TZID=Europe/Paris:20220712T130000
DTSTAMP:20260423T145026
CREATED:20230127T161841Z
LAST-MODIFIED:20230330T141215Z
UID:10000017-1657620000-1657630800@aac-europe.org
SUMMARY:Executive Committee meeting
DESCRIPTION:Further details will be published prior to the event.
URL:https://aac-europe.org/event/executive-committee-meeting-5/
LOCATION:Webinar – Improving fish welfare with the “Code of good practices on fish welfare and fish welfare indicators”
END:VEVENT
END:VCALENDAR